BEGIN:VCALENDAR
VERSION:2.0
CALSCALE:GREGORIAN
METHOD:PUBLISH
PRODID://MSRC//212470
BEGIN:VEVENT
DTSTAMP:20260421T082036
VTIMEZONE:America/New_York
DTSTART:20261005T120000Z
DTEND:20261006T210000Z
UID:212470
SUMMARY:2026 MSRC Fall Sponsorship Program Registration
LOCATION:Bavarian Inn Lodge & Conference Center, One Covered Bridge Lane, Frankenmuth, MI, 48734
DESCRIPTION:2026 MSRC Fall Sponsorship Program Registration\n\n10/05/26 08:00 AM EST\n - 10/06/26 05:00 PM EST\Description:\nThe MSRC and our corporate partners have so much to gain by working together.  The MSRC has been promoting the art and science of respiratory care and its continuing education for years.  As a healthcare organization, MSRC strives to inform the public about the importance of the respiratory care profession through our legislative initiatives and public health education.  The products, services and affiliations of our corporate partners are essential to provide quality respiratory care for our patients.  Thank you for your support!\n\nFall Conference:\nOctober 5-6, 2026\nBavarian Inn Lodge\n1 Covered Bridge Lane\nFrankenmuth MI  48734\n \n Room reservations:\n$134/night: standard double room\n$144/night: premium queen or king room\n$214/night: suite\n\nNote: There is a $34.95 daily resort fee in addition to the hotel room fee\n \nReservations: 855.652.7200\nGroup rate number: 1439IS\nRooms are limited and based on availability\n\nSchedule\n\nSunday, October 4:\n5:00 - 7:00 p.m. Exhibit hall set up\n\nMonday, October 5:\n7:00 - 8:00 a.m.  Continental breakfast/networking/exhibit hall set up - must be set up by 9:45 a.m. (2nd floor)\n8:00 - 10:15 a.m. Sessions\n10:15 - 10:45 a.m. Morning break/exhibit hall open\n10:45 - 11:45 a.m. Sessions\n11:45 a.m. - 1:00 p.m. Lunch in exhibit hall\n1:00 - 3:00 p.m. Sessions\n3:00 - 3:30 p.m. Networking break in exhibit hall\n3:30 - 4:00 p.m. Patio reception (cash bar)\n4:00 - 5:00 p.m. House meeting\n5:30 - 6:30 p.m. Social event (TBD)\n\nTuesday, October 6:\n7:00 - 8:15 a.m.  Continental breakfast/networking in exhibit hall (2nd floor)\n8:15  - 10:15 a.m. Sessions\n10:15 - 10:45 a.m. Morning break/exhibit hall open\n10:45 - 11:45 a.m. Sessions\n11:45 a.m. - 1:00 p.m. Lunch in exhibit hall\n1:00 - 3:00 p.m. Sessions\n3:00 p.m. Conference concludes\n\nSponsor packages\nExhibitor full conference: $700.00\nExhibitor non-profit full conference: $600.00\nCocktail party: $250.00\nBreakfast: $300.00\nLunch: $500.00\nConference program ad: $500.00\nVendor hall break: $150.00\nEducational workshop: $500.00\nAdditional exhibitor representative: $100.00\n\n\n\n \n\Location:\nBavarian Inn Lodge & Conference Center\nOne Covered Bridge Lane\nFrankenmuth, MI 48734
X-ALT-DESC;FMTTYPE=text/html:2026 MSRC Fall Sponsorship Program Registration<br /><br />10/05/26 08:00 AM EST - 10/06/26 05:00 PM EST<br />Description:<br /><h3><span style="font-size:14px"><span style="font-family:arial,helvetica,sans-serif">The MSRC and our corporate partners have so much to gain by working together.&nbsp; The MSRC&nbsp;has been promoting the art and science of respiratory care and its continuing education for years.&nbsp; As a healthcare organization, MSRC strives to inform the public about the importance of the respiratory care profession through our legislative initiatives and public health education.&nbsp; The products, services and affiliations of our corporate partners are essential to provide quality respiratory care for our patients.&nbsp; Thank you for your support!</span></span></h3>
<br />
<span style="font-size:14px"><u><span style="color:#0000FF"><span style="font-family:arial,helvetica,sans-serif"><strong>Fall Conference:</strong></span></span></u></span><br />
<span style="font-size:14px"><span style="font-family:arial,helvetica,sans-serif">October 5-6, 2026</span></span><br />
<span style="font-size:14px">Bavarian Inn Lodge</span><br />
<span style="font-size:14px">1 Covered Bridge Lane</span><br />
<span style="font-size:14px">Frankenmuth</span><span style="font-size:14px"> MI&nbsp; 48734</span><br />
&nbsp;
<p><span style="font-size:14px">&nbsp;<span style="color:#0000FF"><u><strong>Room reservations:</strong></u></span><br />
$134/night: standard double room<br />
$144/night: premium queen or king room<br />
$214/night: suite<br />
<br />
<em>Note: There is a $34.95 daily resort fee in addition to the hotel room fee</em><br />
&nbsp;<br />
Reservations: 855.652.7200<br />
Group rate number: 1439IS<br />
<em>Rooms are limited and based on availability</em><br />
<br />
<span style="color:#0000FF"><u><strong>Schedule</strong></u></span><br />
<br />
<span style="color:#0000FF"><u><strong>Sunday, October 4:</strong></u></span><br />
5:00 - 7:00 p.m. Exhibit hall&nbsp;set up<br />
<br />
<u><span style="color:#0000FF"><strong>Monday, October 5:</strong></span></u><br />
7:00 - 8:00 a.m.&nbsp; Continental breakfast/networking/exhibit hall&nbsp;set up - must be set up by 9:45 a.m.&nbsp;(2nd floor)<br />
8:00 - 10:15 a.m. Sessions<br />
10:15 - 10:45 a.m. Morning break/exhibit hall open<br />
10:45 - 11:45 a.m. Sessions<br />
11:45 a.m. - 1:00 p.m. Lunch in exhibit hall<br />
1:00 - 3:00 p.m. Sessions<br />
3:00 - 3:30 p.m. Networking break in exhibit hall<br />
3:30&nbsp;- 4:00 p.m. Patio reception (cash bar)<br />
4:00 - 5:00 p.m. House meeting<br />
5:30 - 6:30 p.m. Social event (TBD)<br />
<br />
<span style="color:#0000FF"><u><strong>Tuesday, October 6:</strong></u></span><br />
7:00 - 8:15&nbsp;a.m.&nbsp; Continental breakfast/networking in exhibit hall (2nd floor)<br />
8:15&nbsp; - 10:15 a.m. Sessions<br />
10:15 - 10:45 a.m. Morning break/exhibit hall open<br />
10:45 - 11:45 a.m. Sessions<br />
11:45 a.m. - 1:00 p.m. Lunch in exhibit hall<br />
1:00 - 3:00 p.m. Sessions<br />
3:00 p.m. Conference concludes</span><br />
<br />
<span style="color:#0000FF"><u><strong>Sponsor packages</strong></u></span><br />
Exhibitor full conference: $700.00<br />
Exhibitor non-profit full conference: $600.00<br />
Cocktail party: $250.00<br />
Breakfast:&nbsp;$300.00<br />
Lunch:&nbsp;$500.00<br />
Conference program ad: $500.00<br />
Vendor hall break: $150.00<br />
Educational workshop: $500.00<br />
Additional exhibitor representative: $100.00<br />
<br />
<br />
<br />
&nbsp;</p>
<br />Location:<br />Bavarian Inn Lodge & Conference Center<br />One Covered Bridge Lane<br />Frankenmuth, MI 48734
PRIORITY:3
TRANSP:TRANSPARENT
BEGIN:VALARM
TRIGGER:-PT5M
ACTION:DISPLAY
DESCRIPTION:Reminder
END:VALARM
END:VEVENT
END:VCALENDAR
